BEGIN:VCALENDAR
VERSION:2.0
PRODID:-//Hawthorn Hollow Nature Sanctuary &amp; Arboretum - ECPv6.15.20//NONSGML v1.0//EN
CALSCALE:GREGORIAN
METHOD:PUBLISH
X-WR-CALNAME:Hawthorn Hollow Nature Sanctuary &amp; Arboretum
X-ORIGINAL-URL:https://hawthornhollow.org
X-WR-CALDESC:Events for Hawthorn Hollow Nature Sanctuary &amp; Arboretum
REFRESH-INTERVAL;VALUE=DURATION:PT1H
X-Robots-Tag:noindex
X-PUBLISHED-TTL:PT1H
BEGIN:VTIMEZONE
TZID:Asia/Karachi
BEGIN:STANDARD
TZOFFSETFROM:+0500
TZOFFSETTO:+0500
TZNAME:PKT
DTSTART:20230101T000000
END:STANDARD
END:VTIMEZONE
BEGIN:VEVENT
DTSTART;TZID=Asia/Karachi:20240422T193000
DTEND;TZID=Asia/Karachi:20240422T213000
DTSTAMP:20260426T082553
CREATED:20240418T155347Z
LAST-MODIFIED:20240418T155347Z
UID:13538-1713814200-1713821400@hawthornhollow.org
SUMMARY:Dark Skies on Earth
DESCRIPTION:Monday\, April 22\, 7:30 – 9:30 pm\nJoin us at the Heide Observatory for an immersive program kicking off our Earth Week events at Hawthorn Hollow Nature Sanctuary and arboretum. Discover the significance of dark skies through engaging activities\, including stargazing\, telescope observations\, and hands-on demonstrations. Explore the impact of light pollution on humans and wildlife\, and learn simple solutions to preserve our natural heritage. Whether you’re a seasoned astronomer or a curious novice\, join us as we celebrate Earth Day and nurture our connection to the cosmos and our planet. \nThis is an open house event so no tickets are required. Activities include : \nTelescope viewing\nStargazing – apparent magnitudes\nHuman eye response to light color and brightness\nIsopod light response \nIf you have any additional questions\, please email observatory@hawthornhollow.org. These events are weather-dependent and will be rescheduled if the cloud cover forecast is greater than 40%.\nDress appropriately for nighttime outdoor weather.\nPurchase tickets here or email observatory@hawthornhollow.org.
URL:https://hawthornhollow.org/event/dark-skies-on-earth-2/
ATTACH;FMTTYPE=image/png:https://hawthornhollow.org/wp-content/uploads/2024/03/Dark-Skies-on-Earth-1.png
END:VEVENT
END:VCALENDAR