BEGIN:VCALENDAR
VERSION:2.0
PRODID:-//Hawthorn Hollow Nature Sanctuary &amp; Arboretum - ECPv6.15.20//NONSGML v1.0//EN
CALSCALE:GREGORIAN
METHOD:PUBLISH
X-WR-CALNAME:Hawthorn Hollow Nature Sanctuary &amp; Arboretum
X-ORIGINAL-URL:https://hawthornhollow.org
X-WR-CALDESC:Events for Hawthorn Hollow Nature Sanctuary &amp; Arboretum
REFRESH-INTERVAL;VALUE=DURATION:PT1H
X-Robots-Tag:noindex
X-PUBLISHED-TTL:PT1H
BEGIN:VTIMEZONE
TZID:Asia/Karachi
BEGIN:STANDARD
TZOFFSETFROM:+0500
TZOFFSETTO:+0500
TZNAME:PKT
DTSTART:20250101T000000
END:STANDARD
END:VTIMEZONE
BEGIN:VEVENT
DTSTART;TZID=Asia/Karachi:20260313T183000
DTEND;TZID=Asia/Karachi:20260313T200000
DTSTAMP:20260420T151656
CREATED:20251218T200201Z
LAST-MODIFIED:20260119T181241Z
UID:17942-1773426600-1773432000@hawthornhollow.org
SUMMARY:Small Eyes Under the Skies
DESCRIPTION:Join us for Small Eyes Under the Skies at The Heide Observatory\, a family-friendly astronomy adventure that begins with an interactive walk through a scale model of our solar system across the meadow and concludes with a telescope viewing of planets and other celestial wonders. Events are weather permitting and will be rescheduled if cloud cover exceeds 40%; look for a confirmation email at least 24 hours before the event. For group or family rate discounts\, contact observatory@hawthornhollow.org\, and please dress appropriately for an outdoor trek through the “solar system” field.
URL:https://hawthornhollow.org/event/small-eyes-under-the-skies-226/
LOCATION:Heide Observatory\, 880 Green Bay Rd\, Kenosha\, WI\, 53144\, United States
CATEGORIES:Observatory Event
END:VEVENT
END:VCALENDAR