BEGIN:VCALENDAR
VERSION:2.0
PRODID:-//Hawthorn Hollow Nature Sanctuary &amp; Arboretum - ECPv6.15.20//NONSGML v1.0//EN
CALSCALE:GREGORIAN
METHOD:PUBLISH
X-ORIGINAL-URL:https://hawthornhollow.org
X-WR-CALDESC:Events for Hawthorn Hollow Nature Sanctuary &amp; Arboretum
REFRESH-INTERVAL;VALUE=DURATION:PT1H
X-Robots-Tag:noindex
X-PUBLISHED-TTL:PT1H
BEGIN:VTIMEZONE
TZID:Asia/Karachi
BEGIN:STANDARD
TZOFFSETFROM:+0500
TZOFFSETTO:+0500
TZNAME:PKT
DTSTART:20250101T000000
END:STANDARD
END:VTIMEZONE
BEGIN:VEVENT
DTSTART;TZID=Asia/Karachi:20260312T200000
DTEND;TZID=Asia/Karachi:20260312T220000
DTSTAMP:20260420T165157
CREATED:20251218T194740Z
LAST-MODIFIED:20260119T180346Z
UID:17894-1773345600-1773352800@hawthornhollow.org
SUMMARY:Through the Lens
DESCRIPTION:Experience the awe-inspiring Through the Lens event at The Heide Observatory\, where celestial wonders come to life as you peer through our powerful 17-inch telescope to observe binary stars\, distant planets\, and shimmering galaxies. While awaiting your turn inside the dome\, join our knowledgeable guides outdoors for a laser-assisted sky tour\, connecting what you see through the lens with the vast panorama of the night sky. Events are weather-dependent and will be rescheduled by email 24 hours in advance if cloud cover exceeds 40%\, and guests are encouraged to dress appropriately for nighttime outdoor weather.
URL:https://hawthornhollow.org/event/through-the-lens-256/
LOCATION:Heide Observatory\, 880 Green Bay Rd\, Kenosha\, WI\, 53144\, United States
CATEGORIES:Observatory Event
END:VEVENT
END:VCALENDAR