BEGIN:VCALENDAR
VERSION:2.0
PRODID:-//Hawthorn Hollow Nature Sanctuary &amp; Arboretum - ECPv6.15.20//NONSGML v1.0//EN
CALSCALE:GREGORIAN
METHOD:PUBLISH
X-WR-CALNAME:Hawthorn Hollow Nature Sanctuary &amp; Arboretum
X-ORIGINAL-URL:https://hawthornhollow.org
X-WR-CALDESC:Events for Hawthorn Hollow Nature Sanctuary &amp; Arboretum
REFRESH-INTERVAL;VALUE=DURATION:PT1H
X-Robots-Tag:noindex
X-PUBLISHED-TTL:PT1H
BEGIN:VTIMEZONE
TZID:Asia/Karachi
BEGIN:STANDARD
TZOFFSETFROM:+0500
TZOFFSETTO:+0500
TZNAME:PKT
DTSTART:20250101T000000
END:STANDARD
END:VTIMEZONE
BEGIN:VEVENT
DTSTART;TZID=Asia/Karachi:20260311T200000
DTEND;TZID=Asia/Karachi:20260311T220000
DTSTAMP:20260420T182524
CREATED:20251218T185503Z
LAST-MODIFIED:20260119T175935Z
UID:17849-1773259200-1773266400@hawthornhollow.org
SUMMARY:Wednesday Under the Stars
DESCRIPTION:Enjoy a relaxing evening at Wednesday Under the Stars\, hosted at the picturesque Heide Observatory. Settle into a zero-gravity chair with your favorite beverage and embark on an unforgettable journey through the night sky as our expert guides use laser pointers to highlight stars\, planets\, constellations\, and galaxies above. Listen to the captivating stories behind these celestial wonders while you unwind beneath the vast\, glittering cosmos. Events are weather-dependent and will be rescheduled by email 24 hours in advance if cloud cover exceeds 40%\, and guests are encouraged to dress appropriately for nighttime outdoor weather.
URL:https://hawthornhollow.org/event/wednesday-under-the-stars-82/
LOCATION:Heide Observatory\, 880 Green Bay Rd\, Kenosha\, WI\, 53144\, United States
CATEGORIES:Observatory Event
END:VEVENT
END:VCALENDAR