BEGIN:VCALENDAR
VERSION:2.0
PRODID:-//Hawthorn Hollow Nature Sanctuary &amp; Arboretum - ECPv6.15.20//NONSGML v1.0//EN
CALSCALE:GREGORIAN
METHOD:PUBLISH
X-WR-CALNAME:Hawthorn Hollow Nature Sanctuary &amp; Arboretum
X-ORIGINAL-URL:https://hawthornhollow.org
X-WR-CALDESC:Events for Hawthorn Hollow Nature Sanctuary &amp; Arboretum
REFRESH-INTERVAL;VALUE=DURATION:PT1H
X-Robots-Tag:noindex
X-PUBLISHED-TTL:PT1H
BEGIN:VTIMEZONE
TZID:Asia/Karachi
BEGIN:STANDARD
TZOFFSETFROM:+0500
TZOFFSETTO:+0500
TZNAME:PKT
DTSTART:20240101T000000
END:STANDARD
END:VTIMEZONE
BEGIN:VEVENT
DTSTART;TZID=Asia/Karachi:20250808T180000
DTEND;TZID=Asia/Karachi:20250808T210000
DTSTAMP:20260423T200349
CREATED:20250604T213355Z
LAST-MODIFIED:20250731T182042Z
UID:16979-1754676000-1754686800@hawthornhollow.org
SUMMARY:Pike River Benefit Concert feat. Violet Wilder
DESCRIPTION:Hawthorn Hollow’s 2025 Pike River Benefit Concert Series\, presented by Stein’s Aircraft Services\, continues with the lush\, heartfelt melodies of Violet Wilder on Friday\, August 8.\nJoin us for Violet Wilder’s lush\, genre-bending indie folk which led Mark Hubing of the Local Cords Podcast to describe them as “touching\, progressive and raw\, this trio isn’t afraid to blend some of the formal narratives of folk music with the influence of jazz and alternative audio expression”.\nTickets are $15 and are available at the door (cash only\, please). Food and beverages will be available for purchase. Carry-in food and beverages are not allowed. All proceeds benefit Hawthorn Hollow.\n\nThe 2025 Pike River Concert Series at Hawthorn Hollow is presented by Stein’s Aircraft Services\, and supported by Educator’s Credit Union\, and Festival foods. Additional support comes from Equinox Botanical Boutique\, Mindful Yoga\, Peacetree Originals\, Kessler’s Clock Co.\, Alpaca Arts\, Daniels Chiropractic Office\, Impact Networking\, M3 Insurance\, Design Partners Inc.\, and Creative Design Custom Signs. \nSee less
URL:https://hawthornhollow.org/event/pike-river-benefit-concert-feat-violet-wilder/
LOCATION:Hawthorn Hollow Nature Sanctuary & Arboretum\, 880 Green Bay Rd\, Kenosha\, WI\, 53144\, United States
CATEGORIES:Hawthorn Hollow Fundraiser
ATTACH;FMTTYPE=image/jpeg:https://hawthornhollow.org/wp-content/uploads/2025/06/Copy-of-Concert-FB-Event-25-Violet.jpg
END:VEVENT
END:VCALENDAR