BEGIN:VCALENDAR
VERSION:2.0
PRODID:-//Hawthorn Hollow Nature Sanctuary &amp; Arboretum - ECPv6.15.20//NONSGML v1.0//EN
CALSCALE:GREGORIAN
METHOD:PUBLISH
X-WR-CALNAME:Hawthorn Hollow Nature Sanctuary &amp; Arboretum
X-ORIGINAL-URL:https://hawthornhollow.org
X-WR-CALDESC:Events for Hawthorn Hollow Nature Sanctuary &amp; Arboretum
REFRESH-INTERVAL;VALUE=DURATION:PT1H
X-Robots-Tag:noindex
X-PUBLISHED-TTL:PT1H
BEGIN:VTIMEZONE
TZID:Asia/Karachi
BEGIN:STANDARD
TZOFFSETFROM:+0500
TZOFFSETTO:+0500
TZNAME:PKT
DTSTART:20240101T000000
END:STANDARD
END:VTIMEZONE
BEGIN:VEVENT
DTSTART;TZID=Asia/Karachi:20250906T100000
DTEND;TZID=Asia/Karachi:20250906T160000
DTSTAMP:20260423T164308
CREATED:20250725T130504Z
LAST-MODIFIED:20250905T194106Z
UID:17223-1757152800-1757174400@hawthornhollow.org
SUMMARY:Walk in the Woods Art Fair
DESCRIPTION:Experience Art Like Never Before—In the Heart of Nature!\nJoin us for the Walk in the Woods Art Fair\, one of southeastern Wisconsin’s most beloved and unique events! Stroll through the scenic wooded trails and blooming gardens of Hawthorn Hollow\, where over 70 talented artists will showcase and sell their stunning works—from handcrafted jewelry and vibrant paintings to intricate wood carvings\, garden art\, glasswork\, and more. \nBut the creativity doesn’t stop there! Enjoy live music throughout the day\, face painting for the kids\, delicious food and refreshing drinks\, Heide observatory tours and our always-popular silent auction with one-of-a-kind pieces from our artisans. \nWhether you’re a longtime art lover or simply looking for a perfect day outdoors\, this is your chance to celebrate the magic of art\, music\, and nature all in one place. \nDon’t miss this unforgettable day in the woods—where creativity comes to life! \nInterested in becoming a sponsor or donor? Visit our event page to learn how you can support the Walk in the Woods Art Fair 2025! \n*The Artist application window is closed for 2025\, be sure to check our event page in the spring of 2026 to learn about the application process.
URL:https://hawthornhollow.org/event/walk-in-the-woods-art-fair-2/
LOCATION:Hawthorn Hollow Nature Sanctuary & Arboretum\, 880 Green Bay Rd\, Kenosha\, WI\, 53144\, United States
CATEGORIES:Hawthorn Hollow Fundraiser
ATTACH;FMTTYPE=image/png:https://hawthornhollow.org/wp-content/uploads/2025/07/ART-fair-logo-2025.png
END:VEVENT
BEGIN:VEVENT
DTSTART;TZID=Asia/Karachi:20250926T180000
DTEND;TZID=Asia/Karachi:20250926T210000
DTSTAMP:20260423T164308
CREATED:20250604T213158Z
LAST-MODIFIED:20250731T191324Z
UID:16975-1758909600-1758920400@hawthornhollow.org
SUMMARY:Pike River Benefit Concert feat Indigo Canyon
DESCRIPTION:***Rescheduled from July 11***\n\nHawthorn Hollow’s 2025 Pike River Benefit Concert Series\, presented by Stein’s Aircraft Services\, continues with the soulful rock of Indigo Canyon on Friday\, September 26.\n\nSmooth\, Soulful\, Beautiful\, Melodious…. All words used to describe the music produced by Michelle and Todd of Indigo Canyon. Whether they are playing as a duo or a full band\, the energy is always upbeat. Indigo Canyon have built a strong reputation for creating grooves and drawing crowds into dancing frenzies. For more info about Indigo Canyon\, visit indigocanyonband.com.\n\nThe 2025 Pike River Benefit Concert Series will continue with the heartfelt melodies of Violet Wilder on Friday\, August 8.\nTickets are $15 and are available at the door (cash only\, please). Food and beverages will be available for purchase. Carry-in food and beverages are not allowed. All proceeds benefit Hawthorn Hollow.\n\nThe 2025 Pike River Concert Series at Hawthorn Hollow is presented by Stein’s Aircraft Services\, and supported by Educator’s Credit Union\, and Festival foods. Additional support comes from Equinox Botanical Boutique\, Mindful Yoga\, Peacetree Originals\, Kessler’s Clock Co.\, Alpaca Arts\, Daniels Chiropractic Office\, Impact Networking\, M3 Insurance\, Design Partners Inc.\, and Creative Design Custom Signs.
URL:https://hawthornhollow.org/event/pike-river-benefit-concert-feat-indigo-canyon/
LOCATION:Hawthorn Hollow Nature Sanctuary & Arboretum\, 880 Green Bay Rd\, Kenosha\, WI\, 53144\, United States
CATEGORIES:Hawthorn Hollow Fundraiser
ATTACH;FMTTYPE=image/jpeg:https://hawthornhollow.org/wp-content/uploads/2025/06/Indigo-25-FB-New.jpg
END:VEVENT
END:VCALENDAR