BEGIN:VCALENDAR
VERSION:2.0
PRODID:-//Hawthorn Hollow Nature Sanctuary &amp; Arboretum - ECPv6.15.20//NONSGML v1.0//EN
CALSCALE:GREGORIAN
METHOD:PUBLISH
X-WR-CALNAME:Hawthorn Hollow Nature Sanctuary &amp; Arboretum
X-ORIGINAL-URL:https://hawthornhollow.org
X-WR-CALDESC:Events for Hawthorn Hollow Nature Sanctuary &amp; Arboretum
REFRESH-INTERVAL;VALUE=DURATION:PT1H
X-Robots-Tag:noindex
X-PUBLISHED-TTL:PT1H
BEGIN:VTIMEZONE
TZID:Asia/Karachi
BEGIN:STANDARD
TZOFFSETFROM:+0500
TZOFFSETTO:+0500
TZNAME:PKT
DTSTART:20240101T000000
END:STANDARD
END:VTIMEZONE
BEGIN:VEVENT
DTSTART;TZID=Asia/Karachi:20250410T200000
DTEND;TZID=Asia/Karachi:20250410T220000
DTSTAMP:20260422T072550
CREATED:20250325T163042Z
LAST-MODIFIED:20250325T163042Z
UID:16455-1744315200-1744322400@hawthornhollow.org
SUMMARY:Through the Lens
DESCRIPTION:Experience the awe-inspiring “Through the Lens” event at The Heide Observatory\, where celestial wonders come to life. Peer into the depths of the universe using our powerful 17-inch telescope\, taking turns to observe binary stars\, elusive planets\, ethereal galaxies\, and an array of captivating celestial objects. As you await your individual view inside the observatory dome\, join our knowledgeable guides outside under the stars for a guided sky tour. Gain a broader perspective and deepen your appreciation as you absorb the enchanting panorama of the night sky\, connecting the dots between what you witness through the lens and the grand tapestry of the cosmos.These events are weather-dependent\, and will be rescheduled by e-mail 24 hours before scheduled if the cloud cover forecast is greater than 40%.\nDress appropriately for nighttime outdoor weather.
URL:https://hawthornhollow.org/event/through-the-lens-219/
LOCATION:Heide Observatory\, 880 Green Bay Rd\, Kenosha\, WI\, 53144\, United States
CATEGORIES:Observatory Event
END:VEVENT
BEGIN:VEVENT
DTSTART;TZID=Asia/Karachi:20250410T200000
DTEND;TZID=Asia/Karachi:20250410T220000
DTSTAMP:20260422T072550
CREATED:20250325T163059Z
LAST-MODIFIED:20250325T163059Z
UID:16459-1744315200-1744322400@hawthornhollow.org
SUMMARY:Wednesday Under the Stars
DESCRIPTION:Indulge in the ultimate sensory experience at “Wednesday Under the Stars” hosted at the picturesque Heide Observatory. Sink into a blissful zero-gravity chair with your favorite beverage in hand\, and prepare for an unforgettable journey through the night sky. Our expert guides will illuminate the celestial wonders using a laser pointer\, revealing stars\, planets\, constellations\, galaxies\, and other captivating objects of interest. Immerse yourself in their enthralling stories as we unravel their relationships and delve into their profound significance. Sip\, gaze\, and savor the enchantment of the cosmos in this unique and relaxing evening under the stars.These events are weather-dependent\, and will be rescheduled by e-mail 24 hours before scheduled if the cloud cover forecast is greater than 40%.\nDress appropriately for nighttime outdoor weather.
URL:https://hawthornhollow.org/event/wednesday-under-the-stars-42/
LOCATION:Heide Observatory\, 880 Green Bay Rd\, Kenosha\, WI\, 53144\, United States
CATEGORIES:Observatory Event
END:VEVENT
END:VCALENDAR