BEGIN:VCALENDAR
VERSION:2.0
PRODID:-//Hawthorn Hollow Nature Sanctuary &amp; Arboretum - ECPv6.15.20//NONSGML v1.0//EN
CALSCALE:GREGORIAN
METHOD:PUBLISH
X-ORIGINAL-URL:https://hawthornhollow.org
X-WR-CALDESC:Events for Hawthorn Hollow Nature Sanctuary &amp; Arboretum
REFRESH-INTERVAL;VALUE=DURATION:PT1H
X-Robots-Tag:noindex
X-PUBLISHED-TTL:PT1H
BEGIN:VTIMEZONE
TZID:Asia/Karachi
BEGIN:STANDARD
TZOFFSETFROM:+0500
TZOFFSETTO:+0500
TZNAME:PKT
DTSTART:20240101T000000
END:STANDARD
END:VTIMEZONE
BEGIN:VEVENT
DTSTART;TZID=Asia/Karachi:20250326T200000
DTEND;TZID=Asia/Karachi:20250326T220000
DTSTAMP:20260422T041851
CREATED:20250225T153747Z
LAST-MODIFIED:20250311T141722Z
UID:16255-1743019200-1743026400@hawthornhollow.org
SUMMARY:Wednesday Under the Stars
DESCRIPTION:Indulge in the ultimate sensory experience at “Wednesday Under the Stars” hosted at the picturesque Heide Observatory. Sink into a blissful zero-gravity chair with your favorite beverage in hand\, and prepare for an unforgettable journey through the night sky. Our expert guides will illuminate the celestial wonders using a laser pointer\, revealing stars\, planets\, constellations\, galaxies\, and other captivating objects of interest. Immerse yourself in their enthralling stories as we unravel their relationships and delve into their profound significance. Sip\, gaze\, and savor the enchantment of the cosmos in this unique and relaxing evening under the stars.These events are weather-dependent\, and will be rescheduled by e-mail 24 hours before scheduled if the cloud cover forecast is greater than 40%.\nDress appropriately for nighttime outdoor weather.
URL:https://hawthornhollow.org/event/wednesday-under-the-stars-40/
LOCATION:Heide Observatory\, 880 Green Bay Rd\, Kenosha\, WI\, 53144\, United States
CATEGORIES:Observatory Event
ATTACH;FMTTYPE=image/jpeg:https://hawthornhollow.org/wp-content/uploads/2025/02/Wed-under-Stars-Promo.jpg
END:VEVENT
END:VCALENDAR