BEGIN:VCALENDAR
VERSION:2.0
PRODID:-//Hawthorn Hollow Nature Sanctuary &amp; Arboretum - ECPv6.15.20//NONSGML v1.0//EN
CALSCALE:GREGORIAN
METHOD:PUBLISH
X-ORIGINAL-URL:https://hawthornhollow.org
X-WR-CALDESC:Events for Hawthorn Hollow Nature Sanctuary &amp; Arboretum
REFRESH-INTERVAL;VALUE=DURATION:PT1H
X-Robots-Tag:noindex
X-PUBLISHED-TTL:PT1H
BEGIN:VTIMEZONE
TZID:Asia/Karachi
BEGIN:STANDARD
TZOFFSETFROM:+0500
TZOFFSETTO:+0500
TZNAME:PKT
DTSTART:20240101T000000
END:STANDARD
END:VTIMEZONE
BEGIN:VEVENT
DTSTART;TZID=Asia/Karachi:20250314T180000
DTEND;TZID=Asia/Karachi:20250314T193000
DTSTAMP:20260422T041805
CREATED:20250225T153746Z
LAST-MODIFIED:20250311T142448Z
UID:16248-1741975200-1741980600@hawthornhollow.org
SUMMARY:Small Eyes Under the Skies
DESCRIPTION:Join us for a captivating astronomical adventure at The Heide Observatory with our “Small Eyes Under the Skies” event\, perfect for the whole family. Explore the wonders of our solar system as we embark on an interactive journey across the meadow\, discovering the sizes and distances of our nearest celestial neighbors. Following this engaging experience\, prepare for an unforgettable telescope adventure\, where you’ll witness the beauty of planets and other extraordinary celestial objects up close. With limited space available\, be sure to secure your tickets early to guarantee a spot for this stellar exploration.In the event of cloud cover of more than 40% we will reschedule the event. Look for a confirmation email at least 24 hours prior to the event date.\nContact observatory@hawthornhollow.org for group/family rate discounts.\nPlease remember to dress appropriately for an outdoor trek through the solar system (the field).
URL:https://hawthornhollow.org/event/small-eyes-under-the-skies-191/
LOCATION:Heide Observatory\, 880 Green Bay Rd\, Kenosha\, WI\, 53144\, United States
CATEGORIES:Observatory Event
ATTACH;FMTTYPE=image/jpeg:https://hawthornhollow.org/wp-content/uploads/2025/02/Small-Eyes-Promo.jpg
END:VEVENT
END:VCALENDAR