BEGIN:VCALENDAR
VERSION:2.0
PRODID:-//Hawthorn Hollow Nature Sanctuary &amp; Arboretum - ECPv6.15.20//NONSGML v1.0//EN
CALSCALE:GREGORIAN
METHOD:PUBLISH
X-WR-CALNAME:Hawthorn Hollow Nature Sanctuary &amp; Arboretum
X-ORIGINAL-URL:https://hawthornhollow.org
X-WR-CALDESC:Events for Hawthorn Hollow Nature Sanctuary &amp; Arboretum
REFRESH-INTERVAL;VALUE=DURATION:PT1H
X-Robots-Tag:noindex
X-PUBLISHED-TTL:PT1H
BEGIN:VTIMEZONE
TZID:Asia/Karachi
BEGIN:STANDARD
TZOFFSETFROM:+0500
TZOFFSETTO:+0500
TZNAME:PKT
DTSTART:20240101T000000
END:STANDARD
END:VTIMEZONE
BEGIN:VEVENT
DTSTART;VALUE=DATE:20250301
DTEND;VALUE=DATE:20250302
DTSTAMP:20260422T025311
CREATED:20250128T172249Z
LAST-MODIFIED:20250128T190718Z
UID:16101-1740787200-1740873599@hawthornhollow.org
SUMMARY:Vintage Candle Lantern Workshop & Night Hike -w- Overocker Woodworking
DESCRIPTION:Click here for more info or to register. \nJoin us for a truly unique and memorable experience combining creativity\, nature\, and cozy campfire vibes! In this workshop\, participants will craft their own vintage-inspired wooden candle lanterns under the expert guidance of the skilled craftsmen of Overocker Woodworking. Once your lantern is complete\, return at dusk to enjoy a guided candlelight hike through the serene trails of Hawthorn Hollow\, led by their experienced naturalist. End the evening around a crackling campfire with delicious snacks and warm vibes.
URL:https://hawthornhollow.org/event/vintage-candle-lantern-workshop-night-hike/
LOCATION:Ozanne Outpost at Hawthorn Hollow\, 914 Green Bay Rd\, Kenosha\, WI\, 53144\, United States
ATTACH;FMTTYPE=image/jpeg:https://hawthornhollow.org/wp-content/uploads/2025/01/Lantern-Hike-Over.jpg
END:VEVENT
BEGIN:VEVENT
DTSTART;TZID=Asia/Karachi:20250301T100000
DTEND;TZID=Asia/Karachi:20250301T120000
DTSTAMP:20260422T025311
CREATED:20250213T191406Z
LAST-MODIFIED:20250213T191406Z
UID:16184-1740823200-1740830400@hawthornhollow.org
SUMMARY:Maple Sugarin' Time!
DESCRIPTION:We are proud to be offering our popular maple sugaring adult & family classes once again\, and we’re so excited about them that we’re starting them earlier than ever!\n“It’s Maple Sugarin’ Time” is a wonderful introduction to sugaring. During this program\, we embark on a journey through the history and process of maple sugaring through hands-on activities\, storytelling\, crafting\, and a look inside our maple sugaring operations. All participants get the chance to taste 100% natural maple syrup!\n\n\nThis is a perfect class for adults and families of any age to enjoy\, and is being offered on Saturdays\,  March 1st and March 8th at 10am.\nTickets are $15 per person (plus fee)\, children under 4 are free.\n\n\nFor more info or for tickets\, please visit hawthornhollow.ticketspice.com/maple-sugarin-2025\n\n\nIt’s going to be sweet!
URL:https://hawthornhollow.org/event/maple-sugarin-time-3/
LOCATION:Hawthorn Hollow Nature Sanctuary & Arboretum\, 880 Green Bay Rd\, Kenosha\, WI\, 53144\, United States
ATTACH;FMTTYPE=image/jpeg:https://hawthornhollow.org/wp-content/uploads/2025/01/Maple-Sugar-16-9-24.jpg
END:VEVENT
END:VCALENDAR