BEGIN:VCALENDAR
VERSION:2.0
PRODID:-//Hawthorn Hollow Nature Sanctuary &amp; Arboretum - ECPv6.15.20//NONSGML v1.0//EN
CALSCALE:GREGORIAN
METHOD:PUBLISH
X-ORIGINAL-URL:https://hawthornhollow.org
X-WR-CALDESC:Events for Hawthorn Hollow Nature Sanctuary &amp; Arboretum
REFRESH-INTERVAL;VALUE=DURATION:PT1H
X-Robots-Tag:noindex
X-PUBLISHED-TTL:PT1H
BEGIN:VTIMEZONE
TZID:Asia/Karachi
BEGIN:STANDARD
TZOFFSETFROM:+0500
TZOFFSETTO:+0500
TZNAME:PKT
DTSTART:20210101T000000
END:STANDARD
END:VTIMEZONE
BEGIN:VEVENT
DTSTART;TZID=Asia/Karachi:20220812T210000
DTEND;TZID=Asia/Karachi:20220812T230000
DTSTAMP:20260422T120425
CREATED:20220729T151701Z
LAST-MODIFIED:20220729T151701Z
UID:9156-1660338000-1660345200@hawthornhollow.org
SUMMARY:Perseid Meteor Shower I
DESCRIPTION:Friday (August 12) 9:00 pm – 11:00 pm\nThe Perseid meteor shower (also known as The Perseids) is perhaps the most popular meteor shower of the year\, visible between July and August. With clear skies\, you could see what some consider the most spectacular cosmic light show.  \nAmerican spectators can expect to see the greatest number of meteors during the shower’s peak between Aug. 11-12 this year\, according to the American Meteor Society (AMS). \nEvery year\, Earth passes through the path of Comet Swift-Tuttle from July 17 to Aug. 24\, with the shower’s peak — when Earth passes through the densest\, dustiest area — occurring Aug. 11-12. That means you’ll see the most meteors in the shortest amount of time near that time. Years without moonlight see higher rates of meteors per hour\, and in outburst years (such as in 2016) the rate can be between 150-200 meteors an hour.  \nReserve your tickets for The Schoolyard Observatory Perseids Meteor shower event and enjoy a relaxing display of the meteors as you lay back in our zero gravity chairs. Tickets for this event go fast so reserve yours today.  \nAny questions? Contact us at Observatory@hawthornhollow.org \nPurchase Tickets Here.
URL:https://hawthornhollow.org/event/perseid-meteor-shower-i/
LOCATION:WI
CATEGORIES:Observatory Event
ATTACH;FMTTYPE=image/jpeg:https://hawthornhollow.org/wp-content/uploads/2022/05/meteor-showers-1.jpg
END:VEVENT
BEGIN:VEVENT
DTSTART;TZID=Asia/Karachi:20220812T231500
DTEND;TZID=Asia/Karachi:20220813T011500
DTSTAMP:20260422T120425
CREATED:20220729T151932Z
LAST-MODIFIED:20220729T151932Z
UID:9158-1660346100-1660353300@hawthornhollow.org
SUMMARY:Perseid Meteor Shower II
DESCRIPTION:Friday (August 12) 11:15 pm – 1:15 am\nThe Perseid meteor shower (also known as The Perseids) is perhaps the most popular meteor shower of the year\, visible between July and August. With clear skies\, you could see what some consider the most spectacular cosmic light show.  \nAmerican spectators can expect to see the greatest number of meteors during the shower’s peak between Aug. 11-12 this year\, according to the American Meteor Society (AMS). \nEvery year\, Earth passes through the path of Comet Swift-Tuttle from July 17 to Aug. 24\, with the shower’s peak — when Earth passes through the densest\, dustiest area — occurring Aug. 11-12. That means you’ll see the most meteors in the shortest amount of time near that time. Years without moonlight see higher rates of meteors per hour\, and in outburst years (such as in 2016) the rate can be between 150-200 meteors an hour.  \nReserve your tickets for The Schoolyard Observatory Perseids Meteor shower event and enjoy a relaxing display of the meteors as you lay back in our zero gravity chairs. Tickets for this event go fast so reserve yours today.  \nAny questions? Contact us at Observatory@hawthornhollow.org \nTickets here!
URL:https://hawthornhollow.org/event/perseid-meteor-shower-ii/
LOCATION:WI
CATEGORIES:Observatory Event
ATTACH;FMTTYPE=image/jpeg:https://hawthornhollow.org/wp-content/uploads/2022/05/meteor-showers-1.jpg
END:VEVENT
END:VCALENDAR