BEGIN:VCALENDAR
VERSION:2.0
PRODID:-//Hawthorn Hollow Nature Sanctuary &amp; Arboretum - ECPv6.15.20//NONSGML v1.0//EN
CALSCALE:GREGORIAN
METHOD:PUBLISH
X-WR-CALNAME:Hawthorn Hollow Nature Sanctuary &amp; Arboretum
X-ORIGINAL-URL:https://hawthornhollow.org
X-WR-CALDESC:Events for Hawthorn Hollow Nature Sanctuary &amp; Arboretum
REFRESH-INTERVAL;VALUE=DURATION:PT1H
X-Robots-Tag:noindex
X-PUBLISHED-TTL:PT1H
BEGIN:VTIMEZONE
TZID:Asia/Karachi
BEGIN:STANDARD
TZOFFSETFROM:+0500
TZOFFSETTO:+0500
TZNAME:PKT
DTSTART:20210101T000000
END:STANDARD
END:VTIMEZONE
BEGIN:VEVENT
DTSTART;TZID=Asia/Karachi:20220617T193000
DTEND;TZID=Asia/Karachi:20220617T210000
DTSTAMP:20260424T052447
CREATED:20220526T133201Z
LAST-MODIFIED:20220526T133201Z
UID:8779-1655494200-1655499600@hawthornhollow.org
SUMMARY:Small Eyes Under the Skies
DESCRIPTION:Bring the family out to the Schoolyard Observatory and take a trip through the solar system on the meadow as we learn about the size and distance of our closest neighbors. Take our interactive trip followed by an adventure through the telescope to view the planets and other amazing objects. “Space” is limited to 10 total individuals so reserve your tickets early.Contact Observatory@hawthornhollow.org for group/family rate discounts.\nPlease remember to bundle up as it is very cold in space! Snow boots and extra layers are highly recommended.
URL:https://hawthornhollow.org/event/small-eyes-under-the-skies-71/
LOCATION:WI
CATEGORIES:Observatory Event
END:VEVENT
BEGIN:VEVENT
DTSTART;TZID=Asia/Karachi:20220617T203000
DTEND;TZID=Asia/Karachi:20220617T220000
DTSTAMP:20260424T052447
CREATED:20220615T134358Z
LAST-MODIFIED:20220615T134358Z
UID:8944-1655497800-1655503200@hawthornhollow.org
SUMMARY:Small Eyes Under the Skies
DESCRIPTION:Bring the family out to the Schoolyard Observatory and take a trip through the solar system on the meadow as we learn about the size and distance of our closest neighbors. Take our interactive trip followed by an adventure through the telescope to view the planets and other amazing objects. “Space” is limited to 10 total individuals so reserve your tickets early.Contact Observatory@hawthornhollow.org for group/family rate discounts.\nPlease remember to bundle up as it is very cold in space! Snow boots and extra layers are highly recommended.
URL:https://hawthornhollow.org/event/small-eyes-under-the-skies-75/
LOCATION:WI
CATEGORIES:Observatory Event
END:VEVENT
END:VCALENDAR