BEGIN:VCALENDAR
VERSION:2.0
PRODID:-//Hawthorn Hollow Nature Sanctuary &amp; Arboretum - ECPv6.15.20//NONSGML v1.0//EN
CALSCALE:GREGORIAN
METHOD:PUBLISH
X-ORIGINAL-URL:https://hawthornhollow.org
X-WR-CALDESC:Events for Hawthorn Hollow Nature Sanctuary &amp; Arboretum
REFRESH-INTERVAL;VALUE=DURATION:PT1H
X-Robots-Tag:noindex
X-PUBLISHED-TTL:PT1H
BEGIN:VTIMEZONE
TZID:Asia/Karachi
BEGIN:STANDARD
TZOFFSETFROM:+0500
TZOFFSETTO:+0500
TZNAME:PKT
DTSTART:20210101T000000
END:STANDARD
END:VTIMEZONE
BEGIN:VEVENT
DTSTART;TZID=Asia/Karachi:20220404T200000
DTEND;TZID=Asia/Karachi:20220404T220000
DTSTAMP:20260424T014319
CREATED:20220404T223045Z
LAST-MODIFIED:20220404T223045Z
UID:8507-1649102400-1649109600@hawthornhollow.org
SUMMARY:Beneath the Cosmos
DESCRIPTION:Relax in a zero-gravity chair while we guide you through the night sky\, using our laser pointer to show you stars\, planets\, constellations\, galaxies\, and other objects of interest\, while explaining their relationships and significance. Each 2-hour tour will be confirmed by email at least 24 hours before scheduled according to the cloud cover forecast (< 30%). Tickets are redeemable for any of our nightly events and we can reschedule events according to the forecast and your individual schedule. Safety Precautions: During events\, 6-foot social distancing will be maintained\, and wearing a facial mask will be required. Chairs will be sanitized before and after each use. Dress appropriately for nighttime outdoor weather as the temperature is dropping extra layers or a blanket is highly recommended.
URL:https://hawthornhollow.org/event/beneath-the-cosmos-65/
LOCATION:WI
CATEGORIES:Observatory Event
END:VEVENT
END:VCALENDAR