BEGIN:VCALENDAR
VERSION:2.0
PRODID:-//Hawthorn Hollow Nature Sanctuary &amp; Arboretum - ECPv6.15.20//NONSGML v1.0//EN
CALSCALE:GREGORIAN
METHOD:PUBLISH
X-WR-CALNAME:Hawthorn Hollow Nature Sanctuary &amp; Arboretum
X-ORIGINAL-URL:https://hawthornhollow.org
X-WR-CALDESC:Events for Hawthorn Hollow Nature Sanctuary &amp; Arboretum
REFRESH-INTERVAL;VALUE=DURATION:PT1H
X-Robots-Tag:noindex
X-PUBLISHED-TTL:PT1H
BEGIN:VTIMEZONE
TZID:Asia/Karachi
BEGIN:STANDARD
TZOFFSETFROM:+0500
TZOFFSETTO:+0500
TZNAME:PKT
DTSTART:20210101T000000
END:STANDARD
END:VTIMEZONE
BEGIN:VEVENT
DTSTART;TZID=Asia/Karachi:20220223T190000
DTEND;TZID=Asia/Karachi:20220223T210000
DTSTAMP:20260424T021847
CREATED:20220203T144537Z
LAST-MODIFIED:20220203T144537Z
UID:8203-1645642800-1645650000@hawthornhollow.org
SUMMARY:Wine Wednesday Under the Stars
DESCRIPTION:Relax in a zero-gravity chair with your own wine or beverage you bring while we guide you through the night sky\, using our laser pointer to show you stars\, planets\, constellations\, galaxies\, and other objects of interest\, while explaining their relationships and significance. Each 2-hour tour will be confirmed on the observatory website 24 hours before scheduled according to the cloud cover forecast (< 30%) and will then be open for registration until 3 hours prior to the event that day.\nSafety Precautions: During events\, 6-foot social distancing will be maintained\, and wearing a facial mask will be required. Telescope eyepiece and ladder handles will be sanitized before and after each use. Dress appropriately for nighttime outdoor weather\, and insect repellent is highly recommended.
URL:https://hawthornhollow.org/event/wine-wednesday-under-the-stars-55/
LOCATION:WI
CATEGORIES:Observatory Event
END:VEVENT
END:VCALENDAR